BEGIN:VCALENDAR
VERSION:2.0
PRODID:icalendar-ruby
CALSCALE:GREGORIAN
METHOD:PUBLISH
BEGIN:VEVENT
DTSTAMP:20260420T202732Z
UID:5-399286@solidtruthministries.com
DTSTART:20261101T150000Z
DTEND:20261101T160000Z
CLASS:PUBLIC
CREATED:20260420T161457
DESCRIPTION:Sunday Worship
LAST-MODIFIED:20260420T161457
LOCATION:
SUMMARY:Sunday Worship
URL;VALUE=URI:https://www.solidtruthministries.com/events/sunday-worship/20
 26-11-01
END:VEVENT
END:VCALENDAR
