BEGIN:VCALENDAR
VERSION:2.0
PRODID:icalendar-ruby
CALSCALE:GREGORIAN
METHOD:PUBLISH
BEGIN:VEVENT
DTSTAMP:20260420T185249Z
UID:5-399024@solidtruthministries.com
DTSTART:20261025T140000Z
DTEND:20261025T150000Z
CLASS:PUBLIC
CREATED:20260420T133931
DESCRIPTION:Sunday Worship
LAST-MODIFIED:20260420T133931
LOCATION:
SUMMARY:Sunday Worship
URL;VALUE=URI:https://www.solidtruthministries.com/events/sunday-worship/20
 26-10-25
END:VEVENT
END:VCALENDAR
