BEGIN:VCALENDAR
VERSION:2.0
PRODID:icalendar-ruby
CALSCALE:GREGORIAN
METHOD:PUBLISH
BEGIN:VEVENT
DTSTAMP:20260420T160917Z
UID:5-398761@solidtruthministries.com
DTSTART:20261011T140000Z
DTEND:20261011T150000Z
CLASS:PUBLIC
CREATED:20260420T110522
DESCRIPTION:Sunday Worship
LAST-MODIFIED:20260420T110522
LOCATION:
SUMMARY:Sunday Worship
URL;VALUE=URI:https://www.solidtruthministries.com/events/sunday-worship/20
 26-10-11
END:VEVENT
END:VCALENDAR
