BEGIN:VCALENDAR
VERSION:2.0
PRODID:icalendar-ruby
CALSCALE:GREGORIAN
METHOD:PUBLISH
BEGIN:VEVENT
DTSTAMP:20260420T080322Z
UID:5-398234@solidtruthministries.com
DTSTART:20260906T140000Z
DTEND:20260906T150000Z
CLASS:PUBLIC
CREATED:20260420T035750
DESCRIPTION:Sunday Worship
LAST-MODIFIED:20260420T035750
LOCATION:
SUMMARY:Sunday Worship
URL;VALUE=URI:https://www.solidtruthministries.com/events/sunday-worship/20
 26-09-06
END:VEVENT
END:VCALENDAR
