BEGIN:VCALENDAR
VERSION:2.0
PRODID:icalendar-ruby
CALSCALE:GREGORIAN
METHOD:PUBLISH
BEGIN:VEVENT
DTSTAMP:20260420T044739Z
UID:5-397971@solidtruthministries.com
DTSTART:20260823T140000Z
DTEND:20260823T150000Z
CLASS:PUBLIC
CREATED:20260420T002024
DESCRIPTION:Sunday Worship
LAST-MODIFIED:20260420T002024
LOCATION:
SUMMARY:Sunday Worship
URL;VALUE=URI:https://www.solidtruthministries.com/events/sunday-worship/20
 26-08-23
END:VEVENT
END:VCALENDAR
