BEGIN:VCALENDAR
VERSION:2.0
PRODID:icalendar-ruby
CALSCALE:GREGORIAN
METHOD:PUBLISH
BEGIN:VEVENT
DTSTAMP:20260419T233357Z
UID:5-397446@solidtruthministries.com
DTSTART:20260802T140000Z
DTEND:20260802T150000Z
CLASS:PUBLIC
CREATED:20260419T170139
DESCRIPTION:Sunday Worship
LAST-MODIFIED:20260419T170139
LOCATION:
SUMMARY:Sunday Worship
URL;VALUE=URI:https://www.solidtruthministries.com/events/sunday-worship/20
 26-08-02
END:VEVENT
END:VCALENDAR
